BEGIN:VCALENDAR
PRODID:-//github.com/rianjs/ical.net//NONSGML ical.net 4.0//EN
VERSION:2.0
BEGIN:VEVENT
DESCRIPTION:Details:\nhttps://bbyo.org/bbyo-near-you/regions/eastern-regio
 n/mockingjay-eastern-region
DTEND;VALUE=DATE:20151119
DTSTAMP:20260423T002104Z
DTSTART;VALUE=DATE:20151119
LOCATION:
SEQUENCE:0
SUMMARY:Mockingjay Eastern Region
UID:f7eebb2a-8a13-487b-bfa4-c72f69206c78
END:VEVENT
END:VCALENDAR
