BEGIN:VCALENDAR
PRODID:-//github.com/rianjs/ical.net//NONSGML ical.net 4.0//EN
VERSION:2.0
BEGIN:VEVENT
DESCRIPTION:Details:\nhttps://bbyo.org/bbyo-near-you/regions/gold-coast-re
 gion/temple-beth-emet-parent-teen-teen-connection-ope
DTEND;VALUE=DATE:20050911
DTSTAMP:20260422T020129Z
DTSTART;VALUE=DATE:20050911
LOCATION:Temple Beth Emet
SEQUENCE:0
SUMMARY:Temple Beth Emet Parent / Teen Teen Connection Open House
UID:8cd579d5-5f58-48ea-8341-80e0c7f38d50
END:VEVENT
END:VCALENDAR
