BEGIN:VCALENDAR
PRODID:-//github.com/rianjs/ical.net//NONSGML ical.net 4.0//EN
VERSION:2.0
BEGIN:VEVENT
DESCRIPTION:Details:\nhttps://bbyo.org/bbyo-near-you/regions/northern-regi
 on-east-dc-council/nre-sweetheart-hearthrob-2018-(first-100!)\n\nSummary:
 \nSweetheart Heartthrob is our annual semi-formal dance.  This year\, Swe
 etheart Heartthrob is a regional event for all BBYO members in Baltimore\
 , DC and NoVA Councils!  The first 100 teens to
DTEND:20181202T163000
DTSTAMP:20260421T141443Z
DTSTART:20181202T140000
LOCATION:Silver Spring Maryland
SEQUENCE:0
SUMMARY:NRE Sweetheart Hearthrob 2018 (First 100!)
UID:a5dd0747-9081-4067-8dd5-5c49bd1be234
END:VEVENT
END:VCALENDAR
