BEGIN:VCALENDAR
PRODID:-//github.com/rianjs/ical.net//NONSGML ical.net 4.0//EN
VERSION:2.0
BEGIN:VEVENT
DESCRIPTION:Details:\nhttps://bbyo.org/bbyo-near-you/regions/evergreen-reg
 ion/eugene-bbyo-parent-info-session
DTEND:20240317T143000
DTSTAMP:20260425T235408Z
DTSTART:20240317T133000
LOCATION:UO Hillel
SEQUENCE:0
SUMMARY:Eugene BBYO Parent Info Session
UID:f76a2a21-e58f-4e38-9b1c-ef87481b4c89
END:VEVENT
END:VCALENDAR
