BEGIN:VCALENDAR
PRODID:-//github.com/rianjs/ical.net//NONSGML ical.net 4.0//EN
VERSION:2.0
BEGIN:VEVENT
DESCRIPTION:Details:\nhttps://bbyo.org/bbyo-near-you/regions/north-texas-o
 klahoma-region/regional-board-meeting-(7)
DTEND:20240411T200000
DTSTAMP:20260421T141352Z
DTSTART:20240411T183000
LOCATION:JCC
SEQUENCE:0
SUMMARY:Regional Board Meeting
UID:9c6fd3a4-0967-4bb2-b6da-4054d1df0a99
END:VEVENT
END:VCALENDAR
