BEGIN:VCALENDAR
PRODID:-//github.com/rianjs/ical.net//NONSGML ical.net 4.0//EN
VERSION:2.0
BEGIN:VEVENT
DESCRIPTION:Details:\nhttps://bbyo.org/bbyo-near-you/regions/lonestar-regi
 on/lsr-j-serve-san-antonio-mitzvah-demonstration
DTEND:20190331T160000
DTSTAMP:20260425T194436Z
DTSTART:20190331T120000
LOCATION:San Antonio\, TX
SEQUENCE:0
SUMMARY:LSR J-Serve: San Antonio Mitzvah Demonstration
UID:c796a64c-de58-46b6-9295-73d4db3ea4a8
END:VEVENT
END:VCALENDAR
