BEGIN:VCALENDAR
PRODID:-//github.com/rianjs/ical.net//NONSGML ical.net 4.0//EN
VERSION:2.0
BEGIN:VEVENT
DESCRIPTION:Details:\nhttps://bbyo.org/bbyo-near-you/regions/keystone-moun
 tain-region/an-erev-at-the-met-kmr-dance-2019\n\nSummary:\nCome get dress
 ed up in your favorite outfit and get ready to smile for the paparazzi fo
 r KMR BBYO's "Live From The Red Carpet". Teens grades 8-12 regardless of 
 BBYO membership or affiliation
DTEND:20190223T210000
DTSTAMP:20260422T113404Z
DTSTART:20190223T183000
LOCATION:Sharpsburg Pennsylvania
SEQUENCE:0
SUMMARY:An Erev At The Met : KMR Dance 2019
UID:e5f72dda-2234-43dd-b472-ee8ed7b8235f
END:VEVENT
END:VCALENDAR
