BEGIN:VCALENDAR
PRODID:-//github.com/rianjs/ical.net//NONSGML ical.net 4.0//EN
VERSION:2.0
BEGIN:VEVENT
DESCRIPTION:Details:\nhttps://bbyo.org/bbyo-near-you/regions/wisconsin-reg
 ion/oreoneg
DTEND:20231201T180000
DTSTAMP:20260425T183559Z
DTSTART:20231201T160000
LOCATION:
SEQUENCE:0
SUMMARY:oreoneg
UID:ba2e3082-5a2a-4fa1-a5c9-1972a0e459af
END:VEVENT
END:VCALENDAR
