BEGIN:VCALENDAR
PRODID:-//github.com/rianjs/ical.net//NONSGML ical.net 4.0//EN
VERSION:2.0
BEGIN:VEVENT
DESCRIPTION:Details:\nhttps://bbyo.org/bbyo-near-you/regions/liberty-regio
 n/fall-kickoff\n\nSummary:\nJoin BBYO Liberty Region as we kick off the 2
 019-2020 programming year at Concourse Dance Bar! \n\nWe'll dance the nig
 ht away as we take over the entire club- including their famous ball pit!
DTEND:20190922T200000
DTSTAMP:20260421T043144Z
DTSTART:20190922T180000
LOCATION:Philadelphia Pennsylvania
SEQUENCE:0
SUMMARY:Fall Kickoff
UID:67a6a747-03b3-4065-8fa6-d8987205a466
END:VEVENT
END:VCALENDAR
