BEGIN:VCALENDAR
PRODID:-//github.com/rianjs/ical.net//NONSGML ical.net 4.0//EN
VERSION:2.0
BEGIN:VEVENT
DESCRIPTION:Details:\nhttps://bbyo.org/bbyo-near-you/regions/central-regio
 n-west/east-bay-house-party-(pc5030)\n\nSummary:\nStaff: Amanda Cohen\, R
 oss Glinkenhouse\, Paul and Hilary Palonsky\, Danny Stein\, Gabi Kuhn
DTEND:20170415T213000
DTSTAMP:20260424T183442Z
DTSTART:20170415T180000
LOCATION:Tyler and Megan Palonsky's House
SEQUENCE:0
SUMMARY:East Bay House Party (pc5030)
UID:55953d48-7575-4daa-8e4b-05a0e98d1768
END:VEVENT
END:VCALENDAR
