BEGIN:VCALENDAR
PRODID:-//github.com/rianjs/ical.net//NONSGML ical.net 4.0//EN
VERSION:2.0
BEGIN:VEVENT
DESCRIPTION:Details:\nhttps://bbyo.org/bbyo-near-you/regions/south-jersey-
 region/azaa-sunday-morning-football-(2)\n\nSummary:\nAZAA Season has retu
 rned! Make sure you reach out to your chapter Godol or Sgan for your chap
 ter schedule.\n\n9am- Otzma vs. Chapel\n10am- Woodcrest vs. Marlcrest\n11
 am- Masada vs. Otzma\n\nTo par
DTEND:20180930T120000
DTSTAMP:20260424T003949Z
DTSTART:20180930T090000
LOCATION:Katz JCC
SEQUENCE:0
SUMMARY:AZAA Sunday Morning Football
UID:32058d53-0ac5-4b1c-9856-a17afde3f14e
END:VEVENT
END:VCALENDAR
