BEGIN:VCALENDAR
PRODID:-//github.com/rianjs/ical.net//NONSGML ical.net 4.0//EN
VERSION:2.0
BEGIN:VEVENT
DESCRIPTION:Details:\nhttps://bbyo.org/bbyo-near-you/regions/wisconsin-reg
 ion/wi-oneg-4-15-16
DTEND;VALUE=DATE:20160415
DTSTAMP:20260422T221737Z
DTSTART;VALUE=DATE:20160415
LOCATION:
SEQUENCE:0
SUMMARY:WI - Oneg 4.15.16
UID:b3e97b55-ad5f-4f1f-b8bc-cb4c7b99be92
END:VEVENT
END:VCALENDAR
