BEGIN:VCALENDAR
PRODID:-//github.com/rianjs/ical.net//NONSGML ical.net 4.0//EN
VERSION:2.0
BEGIN:VEVENT
DESCRIPTION:Details:\nhttps://bbyo.org/bbyo-near-you/regions/michigan-regi
 on/bbg-council-meeting
DTEND;VALUE=DATE:20060905
DTSTAMP:20260425T183026Z
DTSTART:20060905T190000
LOCATION:WBJCC
SEQUENCE:0
SUMMARY:BBG Council Meeting
UID:4b433d2b-8fb0-4c4e-8eb3-92a5392bebc1
END:VEVENT
END:VCALENDAR
