BEGIN:VCALENDAR
PRODID:-//github.com/rianjs/ical.net//NONSGML ical.net 4.0//EN
VERSION:2.0
BEGIN:VEVENT
DESCRIPTION:Details:\nhttps://bbyo.org/bbyo-near-you/regions/greater-jerse
 y-region/ccaza-council-board-meeting-(4)\n\nSummary:\nCentral Council AZA
  Board Meeting
DTEND:20160607T180000
DTSTAMP:20260422T144137Z
DTSTART:20160607T163000
LOCATION:Panera Bread (The Shoppes at Old Bridge)
SEQUENCE:0
SUMMARY:CCAZA Council Board Meeting
UID:17fff7c6-26be-4912-9cf4-5dd285bc1ad0
END:VEVENT
END:VCALENDAR
