BEGIN:VCALENDAR
PRODID:-//github.com/rianjs/ical.net//NONSGML ical.net 4.0//EN
VERSION:2.0
BEGIN:VEVENT
DESCRIPTION:Details:\nhttps://bbyo.org/bbyo-near-you/regions/lonestar-regi
 on/houston-bbgg-at-top-golf-at-regionals!\n\nSummary:\nFor teen girls:\n\
 nJoin our older members for some BBGG (B'nai B'rith Girls Games) at Top G
 olf during Regionals! Maximum of 50 teens\, so sign up asap!\n\n \n\nCost
 : $30 for non-members and $25 for
DTEND:20210117T140000
DTSTAMP:20260422T124758Z
DTSTART:20210117T120000
LOCATION:Houston Texas
SEQUENCE:0
SUMMARY:Houston: BBGG at Top Golf at Regionals!
UID:79a88d0a-bdb9-4176-ba22-5c2f55da4f21
END:VEVENT
END:VCALENDAR
