BEGIN:VCALENDAR
PRODID:-//github.com/rianjs/ical.net//NONSGML ical.net 4.0//EN
VERSION:2.0
BEGIN:VEVENT
DESCRIPTION:Details:\nhttps://bbyo.org/bbyo-near-you/regions/delta-region/
 nash-bbyo-dave-and-busters
DTEND:20220521T200000
DTSTAMP:20260422T101413Z
DTSTART:20220521T180000
LOCATION:Dave & Busters
SEQUENCE:0
SUMMARY:Nash BBYO Dave and Busters
UID:d7c69597-00f1-403c-a550-551896a716cb
END:VEVENT
END:VCALENDAR
