BEGIN:VCALENDAR
PRODID:-//github.com/rianjs/ical.net//NONSGML ical.net 4.0//EN
VERSION:2.0
BEGIN:VEVENT
DESCRIPTION:Details:\nhttps://bbyo.org/bbyo-near-you/regions/evergreen-reg
 ion/egr-bend-kickoff
DTEND:20170826T000100
DTSTAMP:20260421T163618Z
DTSTART;VALUE=DATE:20170826
LOCATION:
SEQUENCE:0
SUMMARY:EGR-Bend Kickoff
UID:e5fe3048-930b-409a-b5f0-3b151638a38e
END:VEVENT
END:VCALENDAR
