BEGIN:VCALENDAR
PRODID:-//github.com/rianjs/ical.net//NONSGML ical.net 4.0//EN
VERSION:2.0
BEGIN:VEVENT
DESCRIPTION:Details:\nhttps://bbyo.org/bbyo-near-you/regions/lonestar-regi
 on/lsr-regional-kallah-2017-pc3020\n\nSummary:\nGet excited for Lonestar'
 s last convention of the school year featuring: Battle of the Noms\, Kall
 ah Leadership Training Institute\, interactive services\, and so much mor
 e! Apply for scholarsh
DTEND;VALUE=DATE:20170326
DTSTAMP:20260425T182937Z
DTSTART;VALUE=DATE:20170324
LOCATION:DoubleTree Greenway Plaza Hotel
SEQUENCE:0
SUMMARY:LSR-Regional Kallah 2017-PC3020
UID:ff6ef155-78b1-48c3-81a6-faf390eec75d
END:VEVENT
END:VCALENDAR
