BEGIN:VCALENDAR
PRODID:-//github.com/rianjs/ical.net//NONSGML ical.net 4.0//EN
VERSION:2.0
BEGIN:VEVENT
DESCRIPTION:Details:\nhttps://bbyo.org/bbyo-near-you/regions/northern-regi
 on-east-dc-council/bbyo-dc-council-fall-2018-intake-night\n\nSummary:\nTh
 is event is for prospect members and their families to meet all of the BB
 YO Chapters in Montgomery County.
DTEND:20180917T210000
DTSTAMP:20260423T200917Z
DTSTART:20180917T184500
LOCATION:Rockville  Maryland
SEQUENCE:0
SUMMARY:BBYO DC Council Fall 2018 Intake Night
UID:283deed3-61a9-445a-9b59-26a5f8f4ce85
END:VEVENT
END:VCALENDAR
