BEGIN:VCALENDAR
PRODID:-//github.com/rianjs/ical.net//NONSGML ical.net 4.0//EN
VERSION:2.0
BEGIN:VEVENT
DESCRIPTION:Details:\nhttps://bbyo.org/bbyo-near-you/regions/rocky-mountai
 n-region/denver-chapter-meetings-(11)
DTEND:20060321T203000
DTSTAMP:20260420T132400Z
DTSTART:20060321T193000
LOCATION:Denver JCC
SEQUENCE:0
SUMMARY:Denver Chapter Meetings
UID:77e44812-94e3-4804-a401-0a348b6e7471
END:VEVENT
END:VCALENDAR
