BEGIN:VCALENDAR
PRODID:-//github.com/rianjs/ical.net//NONSGML ical.net 4.0//EN
VERSION:2.0
BEGIN:VEVENT
DESCRIPTION:Details:\nhttps://bbyo.org/bbyo-near-you/regions/kentucky-indi
 ana-ohio-region/kio-rlti-2019-chapter-execs\n\nSummary:\nAll newly electe
 d chapter board members\, please joing the KIO regional board and staff f
 or our annual RLTI! We will be learning\, training and planning for the u
 pcoming programming year! Enjo
DTEND:20190824T210000
DTSTAMP:20260425T182826Z
DTSTART:20190823T160000
LOCATION:HUC Cincinnati
SEQUENCE:0
SUMMARY:KIO RLTI 2019 Chapter Execs
UID:7e566428-fc09-451d-bad7-6290d2ae4535
END:VEVENT
END:VCALENDAR
