BEGIN:VCALENDAR
PRODID:-//github.com/rianjs/ical.net//NONSGML ical.net 4.0//EN
VERSION:2.0
BEGIN:VEVENT
DESCRIPTION:Details:\nhttps://bbyo.org/bbyo-near-you/regions/pacific-weste
 rn-region/youth-led-rosh-hashanah-services
DTEND:20060923T130000
DTSTAMP:20260422T055054Z
DTSTART:20060923T100000
LOCATION:
SEQUENCE:0
SUMMARY:Youth-led Rosh Hashanah Services
UID:779e4122-f75c-420c-beef-f4f44569b3ee
END:VEVENT
END:VCALENDAR
