BEGIN:VCALENDAR
PRODID:-//github.com/rianjs/ical.net//NONSGML ical.net 4.0//EN
VERSION:2.0
BEGIN:VEVENT
DESCRIPTION:Details:\nhttps://bbyo.org/bbyo-near-you/regions/hudson-valley
 -region/8th-regional-board-training\n\nSummary:\nHVR's 8th Regional Board
  will gather for our first in-person meeting of the year! We will largely
  focus on leadership training and preparing for the upcoming year.
DTEND:20200826T190000
DTSTAMP:20260423T213030Z
DTSTART:20200826T170000
LOCATION:Scarsdale New York
SEQUENCE:0
SUMMARY:8th Regional Board Training
UID:dce54d12-8d53-4bcd-8087-24ae098c4cfa
END:VEVENT
END:VCALENDAR
