BEGIN:VCALENDAR
PRODID:-//github.com/rianjs/ical.net//NONSGML ical.net 4.0//EN
VERSION:2.0
BEGIN:VEVENT
DESCRIPTION:Details:\nhttps://bbyo.org/bbyo-near-you/regions/north-texas-o
 klahoma-region/teen-connection-whirlyball-(1)
DTEND:20061022T163000
DTSTAMP:20260425T194253Z
DTSTART:20061022T150000
LOCATION:
SEQUENCE:0
SUMMARY:Teen Connection Whirlyball
UID:af59a12b-3866-408f-bbe0-ffe7e55bdb5e
END:VEVENT
END:VCALENDAR
