BEGIN:VCALENDAR
PRODID:-//github.com/rianjs/ical.net//NONSGML ical.net 4.0//EN
VERSION:2.0
BEGIN:VEVENT
DESCRIPTION:Details:\nhttps://bbyo.org/bbyo-near-you/regions/eastern-regio
 n/05-regional-executives
DTEND:20050827T200000
DTSTAMP:20260422T024453Z
DTSTART:20050825T200000
LOCATION:Radisson
SEQUENCE:0
SUMMARY:05-Regional Executives
UID:4005de4b-38fc-4647-82d1-82a22c4b261a
END:VEVENT
END:VCALENDAR
