BEGIN:VCALENDAR
PRODID:-//github.com/rianjs/ical.net//NONSGML ical.net 4.0//EN
VERSION:2.0
BEGIN:VEVENT
DESCRIPTION:Details:\nhttps://bbyo.org/bbyo-near-you/regions/ohio-northern
 -region/ait-mit-bbg-chofesh-acacia-reservation\n\nSummary:\nChofest Locat
 ion for AIT/MIT. Must be registered for AIT/MIT in order to attend.
DTEND:20210130T163000
DTSTAMP:20260425T194824Z
DTSTART:20210130T150000
LOCATION:Lyndhurst Ohio
SEQUENCE:0
SUMMARY:AIT/MIT BBG Chofesh Acacia Reservation
UID:24b43d37-c873-45ec-a510-810e78314d61
END:VEVENT
END:VCALENDAR
