BEGIN:VCALENDAR
PRODID:-//github.com/rianjs/ical.net//NONSGML ical.net 4.0//EN
VERSION:2.0
BEGIN:VEVENT
DESCRIPTION:Details:\nhttps://bbyo.org/bbyo-near-you/regions/michigan-regi
 on/you-ve-got-chutzpah!\n\nSummary:\nBBYO & \n\nTRI-Community Coalition P
 resent: You've Got Chutzpah\n\nHey BBGs 8th-12th Graders!\n\nJoin us for 
 a fun and inspiring night with all your BBG sisters. Learn how to make th
 e right choice
DTEND:20191017T200000
DTSTAMP:20260420T180836Z
DTSTART:20191017T173000
LOCATION:
SEQUENCE:0
SUMMARY:You've Got Chutzpah!
UID:8cce5355-e9c6-4830-84f7-00f83e463fc9
END:VEVENT
END:VCALENDAR
