BEGIN:VCALENDAR
PRODID:-//github.com/rianjs/ical.net//NONSGML ical.net 4.0//EN
VERSION:2.0
BEGIN:VEVENT
DESCRIPTION:Details:\nhttps://bbyo.org/bbyo-near-you/regions/central-regio
 n-west/sat-practice-test-palo-alto\n\nSummary:\nAs we all know\, your SAT
  score is an important component of your college application.  The Prince
 ton Review’s Palo Alto Office and BBYO’s Central Region West have joined 
 efforts to offer you
DTEND;VALUE=DATE:20060319
DTSTAMP:20260423T200354Z
DTSTART;VALUE=DATE:20060319
LOCATION:The Princeton Review Office
SEQUENCE:0
SUMMARY:SAT Practice Test - Palo Alto
UID:7c12b462-3a98-4890-bc6e-e6b75d44888c
END:VEVENT
END:VCALENDAR
