BEGIN:VCALENDAR
PRODID:-//github.com/rianjs/ical.net//NONSGML ical.net 4.0//EN
VERSION:2.0
BEGIN:VEVENT
DESCRIPTION:Details:\nhttps://bbyo.org/bbyo-near-you/regions/north-florida
 -region/tampa-wow-event
DTEND:20231015T170000
DTSTAMP:20260422T101409Z
DTSTART:20231015T120000
LOCATION:All Around Tampa!
SEQUENCE:0
SUMMARY:Tampa WOW Event
UID:f00a62de-58eb-4ca8-89d6-403ac2a0879c
END:VEVENT
END:VCALENDAR
