BEGIN:VCALENDAR
PRODID:-//github.com/rianjs/ical.net//NONSGML ical.net 4.0//EN
VERSION:2.0
BEGIN:VEVENT
DESCRIPTION:Details:\nhttps://bbyo.org/bbyo-near-you/regions/michigan-regi
 on/michigan-region-fall-kick-off-(1)
DTEND:20210911T230000
DTSTAMP:20260422T221334Z
DTSTART:20210911T203000
LOCATION:Farmington Hills Michigan
SEQUENCE:0
SUMMARY:Michigan Region Fall Kick-Off
UID:7800aa45-b29a-4649-a64b-52ced72528d3
END:VEVENT
END:VCALENDAR
