BEGIN:VCALENDAR
PRODID:-//github.com/rianjs/ical.net//NONSGML ical.net 4.0//EN
VERSION:2.0
BEGIN:VEVENT
DESCRIPTION:Details:\nhttps://bbyo.org/bbyo-near-you/regions/ohio-northern
 -region/onr-fall-chapter-execs-(1)
DTEND:20210829T173000
DTSTAMP:20260425T235443Z
DTSTART:20210829T153000
LOCATION:Beachwood Ohio
SEQUENCE:0
SUMMARY:ONR Fall Chapter Execs
UID:e84d00c9-72ef-43e0-8866-084156935842
END:VEVENT
END:VCALENDAR
