BEGIN:VCALENDAR
PRODID:-//github.com/rianjs/ical.net//NONSGML ical.net 4.0//EN
VERSION:2.0
BEGIN:VEVENT
DESCRIPTION:Details:\nhttps://bbyo.org/bbyo-near-you/regions/connecticut-v
 alley-region/spring-convention-2019-seniors-only\n\nSummary:\nThis event 
 includes our annual Senior's Only overnight including special topics prog
 ramming\, Life Ceremony\, and some surprises to celebrate our Senior Clas
 s!\n\nTRANSPORTATION NOT PROVIDED THURSDAY NIGHT- Teens are not permitted
  to drive themselves\n\nRegistration Ends 3/26 at midnight\n
DTEND:20190407T160000
DTSTAMP:20260424T215810Z
DTSTART:20190404T180000
LOCATION:Danbury Connecticut
SEQUENCE:0
SUMMARY:Spring Convention 2019 Seniors Only
UID:99b990c9-10ed-4d60-a9ef-e3499a7868b6
END:VEVENT
END:VCALENDAR
