BEGIN:VCALENDAR
PRODID:-//github.com/rianjs/ical.net//NONSGML ical.net 4.0//EN
VERSION:2.0
BEGIN:VEVENT
DESCRIPTION:Details:\nhttps://bbyo.org/bbyo-near-you/regions/lonestar-regi
 on/azaa-flag-football-week-5-(1)
DTEND:20200322T150000
DTSTAMP:20260423T200724Z
DTSTART:20200322T140000
LOCATION:Houston Texas
SEQUENCE:0
SUMMARY:AZAA Flag Football Week 5
UID:2f67844d-a4ac-4cb5-973f-fec4537dd137
END:VEVENT
END:VCALENDAR
