BEGIN:VCALENDAR
PRODID:-//github.com/rianjs/ical.net//NONSGML ical.net 4.0//EN
VERSION:2.0
BEGIN:VEVENT
DESCRIPTION:Details:\nhttps://bbyo.org/bbyo-near-you/regions/mountain-regi
 on/mountain-region-fall-convention-2019\n\nSummary:\nWe are so excited to
  announce registration is now open for Mountain Region BBYO Fall Conventi
 on 2019!!!!!! It is the first regional event of the new school year.
DTEND:20191020T120000
DTSTAMP:20260424T102057Z
DTSTART:20191018T170000
LOCATION:Prescott Arizona
SEQUENCE:0
SUMMARY:Mountain Region Fall Convention 2019
UID:f3b5a1c1-af1a-43e4-bb90-0fefeebe1373
END:VEVENT
END:VCALENDAR
