BEGIN:VCALENDAR
PRODID:-//github.com/rianjs/ical.net//NONSGML ical.net 4.0//EN
VERSION:2.0
BEGIN:VEVENT
DESCRIPTION:Details:\nhttps://bbyo.org/bbyo-near-you/regions/northern-regi
 on-east-baltimore-council/nretreat-2024!
DTEND:20240106T180000
DTSTAMP:20260423T133831Z
DTSTART:20240105T163000
LOCATION:Edgewater Maryland
SEQUENCE:0
SUMMARY:NRETreat 2024!
UID:4765242e-c178-4db1-afb0-27a78b1228ec
END:VEVENT
END:VCALENDAR
