BEGIN:VCALENDAR
PRODID:-//github.com/rianjs/ical.net//NONSGML ical.net 4.0//EN
VERSION:2.0
BEGIN:VEVENT
DESCRIPTION:Details:\nhttps://bbyo.org/bbyo-near-you/regions/lonestar-regi
 on/doi-tikvah\n\nSummary:\nThis is the Day of Impact program for Tikvah d
 uring Regionals 2021.
DTEND:20210116T153000
DTSTAMP:20260423T195835Z
DTSTART:20210116T140000
LOCATION:Houston Texas
SEQUENCE:0
SUMMARY:DOI: Tikvah
UID:36ba9fba-f888-40b0-83b1-a51fe74ea998
END:VEVENT
END:VCALENDAR
