BEGIN:VCALENDAR
PRODID:-//github.com/rianjs/ical.net//NONSGML ical.net 4.0//EN
VERSION:2.0
BEGIN:VEVENT
DESCRIPTION:Details:\nhttps://bbyo.org/bbyo-near-you/regions/northern-regi
 on-east-baltimore-council/orali/blti-baltimore-leadership-training-instit
 ute-chapt
DTEND:20230910T200000
DTSTAMP:20260423T215201Z
DTSTART:20230910T173000
LOCATION:Owings Mills Maryland
SEQUENCE:0
SUMMARY:BLTI - Baltimore Leadership Training Institute / Chapter Board Onb
 oarding
UID:81e90d0b-53dc-429e-89bb-485129c38043
END:VEVENT
END:VCALENDAR
