BEGIN:VCALENDAR
PRODID:-//github.com/rianjs/ical.net//NONSGML ical.net 4.0//EN
VERSION:2.0
BEGIN:VEVENT
DESCRIPTION:Details:\nhttps://bbyo.org/bbyo-near-you/regions/ohio-northern
 -region/onr-winter-convention-ait-mit-2022-limited-rooming
DTEND:20220312T110000
DTSTAMP:20260422T054741Z
DTSTART:20220311T170000
LOCATION:
SEQUENCE:0
SUMMARY:ONR Winter Convention AIT MIT 2022 - LIMITED Rooming Registration
UID:ba435f5a-9732-470e-86ed-bdc33a0cabfd
END:VEVENT
END:VCALENDAR
