BEGIN:VCALENDAR
PRODID:-//github.com/rianjs/ical.net//NONSGML ical.net 4.0//EN
VERSION:2.0
BEGIN:VEVENT
DESCRIPTION:Details:\nhttps://bbyo.org/bbyo-near-you/regions/greater-jerse
 y-region/northern-council-hanukah-party\n\nSummary:\nChapter presidents a
 nd AZA/BBG council boards are invited a potluck Hanukah party. This will 
 be held at Gideon Abramowitz's house (131 Devriese Court\, Tenafly\, NJ) 
 on December 14th from 6-8
DTEND:20151214T200000
DTSTAMP:20260423T200719Z
DTSTART:20151214T180000
LOCATION:Gideon Abramowitz's House
SEQUENCE:0
SUMMARY:Northern Council Hanukah Party
UID:01717799-815a-44b3-8bc6-6c84bc27d13f
END:VEVENT
END:VCALENDAR
