BEGIN:VCALENDAR
PRODID:-//github.com/rianjs/ical.net//NONSGML ical.net 4.0//EN
VERSION:2.0
BEGIN:VEVENT
DESCRIPTION:Details:\nhttps://bbyo.org/bbyo-near-you/regions/michigan-regi
 on/teen-connection-goes-to-barnum-and-bailey-circus\n\nSummary:\nJoin Tee
 n Connection at the Barnum & Bailey Circus at the Palace of Auburn Hills 
 on Sunday\, November 12.  All Jewish 7th and 8th graders are invited to j
 oin the fun.  \n\nRound-trip bus tran
DTEND:20061112T201500
DTSTAMP:20260422T101325Z
DTSTART:20061112T160000
LOCATION:Palace of Auburn Hills
SEQUENCE:0
SUMMARY:Teen Connection goes to Barnum and Bailey Circus
UID:94cc08f4-9067-4960-986d-273d2f9a9bf4
END:VEVENT
END:VCALENDAR
