BEGIN:VCALENDAR
PRODID:-//github.com/rianjs/ical.net//NONSGML ical.net 4.0//EN
VERSION:2.0
BEGIN:VEVENT
DESCRIPTION:Details:\nhttps://bbyo.org/bbyo-near-you/regions/nassau-suffol
 k-region/nsr-adventureland-kickoff-2021
DTEND:20211017T210000
DTSTAMP:20260424T150646Z
DTSTART:20211017T180000
LOCATION:Farmingdale New York
SEQUENCE:0
SUMMARY:NSR Adventureland Kickoff 2021
UID:cc27072e-da19-4252-9efd-06098094f91d
END:VEVENT
END:VCALENDAR
