BEGIN:VCALENDAR
PRODID:-//github.com/rianjs/ical.net//NONSGML ical.net 4.0//EN
VERSION:2.0
BEGIN:VEVENT
DESCRIPTION:Details:\nhttps://bbyo.org/bbyo-near-you/regions/lake-ontario-
 region/beauheart-ball-2006
DTEND;VALUE=DATE:20060205
DTSTAMP:20260423T002725Z
DTSTART:20060204T200000
LOCATION:BBYO Office
SEQUENCE:0
SUMMARY:Beauheart Ball 2006
UID:fa28fd2f-4e0a-4833-bd03-14cc0a42bad8
END:VEVENT
END:VCALENDAR
