BEGIN:VCALENDAR
PRODID:-//github.com/rianjs/ical.net//NONSGML ical.net 4.0//EN
VERSION:2.0
BEGIN:VEVENT
DESCRIPTION:Details:\nhttps://bbyo.org/bbyo-near-you/regions/connecticut-v
 alley-region/bbyo-connecticut-valley-region-stomp-it-out!
DTEND:20171216T000100
DTSTAMP:20260425T183053Z
DTSTART;VALUE=DATE:20171216
LOCATION:
SEQUENCE:0
SUMMARY:BBYO Connecticut Valley Region Stomp It Out!
UID:b1033f24-b337-4416-b43b-447ddd89ce2c
END:VEVENT
END:VCALENDAR
