BEGIN:VCALENDAR
PRODID:-//github.com/rianjs/ical.net//NONSGML ical.net 4.0//EN
VERSION:2.0
BEGIN:VEVENT
DESCRIPTION:Details:\nhttps://bbyo.org/bbyo-near-you/regions/wisconsin-reg
 ion/wi-ylc-2023
DTEND:20230415T223000
DTSTAMP:20260422T202633Z
DTSTART:20230414T163000
LOCATION:Army Lake Camp
SEQUENCE:0
SUMMARY:WI-YLC 2023
UID:e6574b45-c265-40d3-9aa3-72b23877ff69
END:VEVENT
END:VCALENDAR
