BEGIN:VCALENDAR
PRODID:-//github.com/rianjs/ical.net//NONSGML ical.net 4.0//EN
VERSION:2.0
BEGIN:VEVENT
DESCRIPTION:Details:\nhttps://bbyo.org/bbyo-near-you/regions/keystone-moun
 tain-region/kmr-bbyo-nfty-steelers-watch-party
DTEND:20171217T000100
DTSTAMP:20260423T202026Z
DTSTART;VALUE=DATE:20171217
LOCATION:
SEQUENCE:0
SUMMARY:KMR-BBYO & NFTY Steelers Watch Party
UID:165e2a59-5088-4fba-9d81-2d8544617fe9
END:VEVENT
END:VCALENDAR
