BEGIN:VCALENDAR
PRODID:-//github.com/rianjs/ical.net//NONSGML ical.net 4.0//EN
VERSION:2.0
BEGIN:VEVENT
DESCRIPTION:Details:\nhttps://bbyo.org/bbyo-near-you/regions/michigan-regi
 on/aza-regional-meeting-(1)
DTEND:20211117T200000
DTSTAMP:20260422T054939Z
DTSTART:20211117T190000
LOCATION:JCC
SEQUENCE:0
SUMMARY:AZA Regional Meeting
UID:40772bec-8026-4880-a3c2-7a954d18bf0e
END:VEVENT
END:VCALENDAR
