BEGIN:VCALENDAR
PRODID:-//github.com/rianjs/ical.net//NONSGML ical.net 4.0//EN
VERSION:2.0
BEGIN:VEVENT
DESCRIPTION:Details:\nhttps://bbyo.org/bbyo-near-you/regions/rocky-mountai
 n-region/ait-mit-conclave-2006\n\nSummary:\nThis event is just for 8th gr
 aders\, regional board members\, and chapter N'siot and G'dolim. It is th
 e culmination Rush Event. Its focus is to teach the new members about AZA
  and BBG. This is
DTEND:20060319T110000
DTSTAMP:20260424T062348Z
DTSTART:20060317T160000
LOCATION:Four Points Sheraton
SEQUENCE:0
SUMMARY:AIT/MIT Conclave 2006
UID:b7c77dcd-2e64-4611-b0be-cb36760a00ae
END:VEVENT
END:VCALENDAR
