BEGIN:VCALENDAR
PRODID:-//github.com/rianjs/ical.net//NONSGML ical.net 4.0//EN
VERSION:2.0
BEGIN:VEVENT
DESCRIPTION:Details:\nhttps://bbyo.org/bbyo-near-you/regions/northern-regi
 on-east-dc-council/dc-council-fall-chapter-execs-training\n\nSummary:\nCh
 apter Execs will be on Sunday\, September 8th\, from 5:30pm-8:30pm at the
  Bender JCC. The Council Boards will lead an immersive evening of trainin
 g to set up our Chapter leadership for succe
DTEND:20190908T203000
DTSTAMP:20260425T183201Z
DTSTART:20190908T173000
LOCATION:Rockville Maryland
SEQUENCE:0
SUMMARY:DC Council Fall Chapter Execs Training
UID:24f05189-783f-4df3-ab77-8d3f7f8b6ac9
END:VEVENT
END:VCALENDAR
