BEGIN:VCALENDAR
PRODID:-//github.com/rianjs/ical.net//NONSGML ical.net 4.0//EN
VERSION:2.0
BEGIN:VEVENT
DESCRIPTION:Details:\nhttps://bbyo.org/bbyo-near-you/regions/new-england-r
 egion/ner-live!\n\nSummary:\nWe are please to present NER Live! Join us f
 or an entertaining night of jokes\, games\, and surprises! From roasts to
  funniest videos to some laughs\, you won't want to miss this! The event 
 is
DTEND:20210306T213000
DTSTAMP:20260425T183310Z
DTSTART:20210306T200000
LOCATION:Zoom
SEQUENCE:0
SUMMARY:NER Live!
UID:2a9deb7c-aa12-4c5f-94b3-36bc1a2d489a
END:VEVENT
END:VCALENDAR
