BEGIN:VCALENDAR
PRODID:-//github.com/rianjs/ical.net//NONSGML ical.net 4.0//EN
VERSION:2.0
BEGIN:VEVENT
DESCRIPTION:Details:\nhttps://bbyo.org/bbyo-near-you/regions/gold-coast-re
 gion/ic-launch-night-davie-(1)
DTEND:20230928T203000
DTSTAMP:20260422T101207Z
DTSTART:20230928T191500
LOCATION:David Posnack JCC
SEQUENCE:0
SUMMARY:IC Launch Night Davie
UID:1f2fdb23-f598-4bdc-9d72-121cbec2e4ea
END:VEVENT
END:VCALENDAR
